BEGIN:VCALENDAR
VERSION:2.0
PRODID:-//wp-events-plugin.com//7.2.3.1//EN
TZID:Asia/Tokyo
X-WR-TIMEZONE:Asia/Tokyo
BEGIN:VEVENT
UID:456@osaka-kosodate-taisho.net
DTSTART;TZID=Asia/Tokyo:20260117T153000
DTEND;TZID=Asia/Tokyo:20260117T163000
DTSTAMP:20260114T065646Z
URL:https://osaka-kosodate-taisho.net/events/%e3%81%af%e3%81%98%e3%82%81%e
 3%81%a6%e3%81%ae%e3%83%80%e3%83%b3%e3%82%b9%e6%95%99%e5%ae%a4%e3%80%90%e4%
 ba%88%e7%b4%84%e5%88%b6%e3%80%91/
SUMMARY:【抽選結果発表中】はじめてのダンス教室【予約
 制】※申込み追加募集中
DESCRIPTION:
ATTACH;FMTTYPE=image/jpeg:https://osaka-kosodate-taisho.net/wp-content/upl
 oads/2025/11/抽選結果発表中（ダンス教室）.png
CATEGORIES:児童対象
LOCATION:大正区子ども・子育てプラザ\, 大正区泉尾3-9-16\, 
 大阪市\, 大阪府\, 551-0031\, 日本
X-APPLE-STRUCTURED-LOCATION;VALUE=URI;X-ADDRESS=大正区泉尾3-9-16\, 大
 阪市\, 大阪府\, 551-0031\, 日本;X-APPLE-RADIUS=100;X-TITLE=大正
 区子ども・子育てプラザ:geo:0,0
END:VEVENT
BEGIN:VTIMEZONE
TZID:Asia/Tokyo
X-LIC-LOCATION:Asia/Tokyo
BEGIN:STANDARD
DTSTART:20250117T153000
TZOFFSETFROM:+0900
TZOFFSETTO:+0900
TZNAME:JST
END:STANDARD
END:VTIMEZONE
END:VCALENDAR